BEGIN:VCALENDAR
VERSION:2.0
PRODID:-//Salem Glen Winery - ECPv6.11.2.1//NONSGML v1.0//EN
CALSCALE:GREGORIAN
METHOD:PUBLISH
X-WR-CALNAME:Salem Glen Winery
X-ORIGINAL-URL:https://salemglenvineyard.com/sgnew
X-WR-CALDESC:Events for Salem Glen Winery
REFRESH-INTERVAL;VALUE=DURATION:PT1H
X-Robots-Tag:noindex
X-PUBLISHED-TTL:PT1H
BEGIN:VTIMEZONE
TZID:UTC
BEGIN:STANDARD
TZOFFSETFROM:+0000
TZOFFSETTO:+0000
TZNAME:UTC
DTSTART:20260101T000000
END:STANDARD
END:VTIMEZONE
BEGIN:VEVENT
DTSTART;TZID=UTC:20260425T130000
DTEND;TZID=UTC:20260425T170000
DTSTAMP:20260425T122925
CREATED:20260310T210535Z
LAST-MODIFIED:20260415T190529Z
UID:21035-1777122000-1777136400@salemglenvineyard.com
SUMMARY:Reclaimed Charm Market
DESCRIPTION:Enjoy a glass of wine and discover a world of creativity at our Upcycled Craft Market. Shop for one-of-a-kind jewelry\, home decor\, clothing\, and more\, all made from repurposed materials. Support local artists and celebrate Earth Day.
URL:https://salemglenvineyard.com/sgnew/event/reclaimed-charm-market/
END:VEVENT
BEGIN:VEVENT
DTSTART;TZID=UTC:20260425T180000
DTEND;TZID=UTC:20260425T200000
DTSTAMP:20260425T122925
CREATED:20260407T195658Z
LAST-MODIFIED:20260407T195658Z
UID:21063-1777140000-1777147200@salemglenvineyard.com
SUMMARY:Puzzles and Wine
DESCRIPTION:Grab some friends and join us for a puzzle night at Salem Glen!\nTeams will have 2 hours to complete the puzzle. Prizes are awarded to the first two teams to finish in the time allotted. \nEmail info@salemglenvineyard.com to RSVP team. \nScreenshot
URL:https://salemglenvineyard.com/sgnew/event/puzzles-and-wine-7/
END:VEVENT
END:VCALENDAR